Workbook

Sheet Guidance
B2: Competitive Bid Analysis Template (CBA) for Research, Evaluation or Assessment Consultancies
B4: What is this document?
B5: This document enables the project team to choose amongst the various bidders who expressed interest in a study, be it research, an evaluation, or an assessment. If we are to recruit an external consultant/organisation as a sub-contractor (which is quite common), this process is required as part of our procurement rules. [Attention!!! This version was last updated in October 2023. Regardless, to ensure that you are using the latest version, please check the MEAL “Supporting Docs” section of the Quality Framework (here) to see whether a newer version is available.
B8: How can I use the Grid?
B9: This Template should be used to select (external) consultants in conjunction with the 1) TOR that was prepared for the study (see relevant template) and 2) the Expression of Interest form.: first, the criteria to use to evaluate a bidder should be chosen on the basis of the specific study being planned: the "Possible Criteria + Scoring Guidelines" Tab presents some criteria that we frequently use to select evaluation, assessment or research partners, and can be a useful starting point. However, some of the suggested criteria included here may not be necessary, and should be taken out (e.g., if recruiting a local consultant, it may not be necessary to include "language" or "country experience"). Likewise, there may be additional criteria required that are not specified here, and which should be added if that was the case (e.g., experience delivering training if you are hoping the researcher could build staff capacity on a new methodology in addition to using it). Please note the evaluation criteria marked as "mandatory" cannot be eliminated as they are required by procurement. A concise set of criteria to demonstrate usually attracts better consultants, so make sure to focus on what is essential to deliver the study you need.. Once the selection criteria have been finalised, the weight of each item should also be reviewed, and the grid should then be included in the research TOR so the bidders know what they will be judged on. However, the TOR should not include the weightings of the criteria. Once all the applications are in, this spreadsheet can then be used to choose the winner and document the process. The "detailed scoring sheet - all bids" and the "master sheet" are the ones to use for this purpose.This process is to be led by the evaluation commissioning manager, that may be a MEAL TA, a thematic TA if the research relates to a specific theme, or the programme manage. The compiled grid should be kept as it's a proof of due diligence in selecting a contractor. This document has been reviewed and approved by SCI central procurement team, but staff using it should review the procedures and policies applying to their office and adapt it if necessary.
B11: To choose a research partner...
B12: * if you will manage the research partner as sub-contractor, the grid is part of the mandatory procurement process, so it should be used in tandem with the Research TOR template: first, the grid should be reviewed on the basis of the specific research being planned, starting with the possible criteria suggested here. There may be additional criteria required that are not specified here, and which should be added if that was the case (e.g., experience delivering training if you are hoping the researcher could build staff capacity on a new methodology in addition to using it), or possible suggested criteria that would need some tailoring/tweaking or that wouldn't apply at all. Once the grid is finalised, the weight of each item should also be reviewed, and the grid should then be included in the so the bidders know what they will be judged on. Once all the applications are in, the grid should then use the grid to choose the winner. This process may be led by a MEAL TA, a thematic TA if the research relates to a specific theme, the PDQ or others. The compiled grid should be kept as it's a proof of due diligence in selecting a contractor. * However, if the research institution is going to be a partner, for instance in a consortium, or as part of a MoU to work together and seek funds jointly for a specicic theme, rather than a subcontractor- the considerations would change. For instance, financial considerations, in such a case, are likely to be less important, and one could want to consider some other aspects. The last tab, "criteria for research parners", tries to suggest some elements for considerations. the criteria are based on ELHRA's guide to effective research partnership, which can be found here: https://www.elrha.org/wp-content/uploads/2015/01/effective-partnerships-report.pdf * Note on scoring: If the selection committee, cannot meet to conduct the scoring collectively - the grid can be send it to each member of the committee to provide their individual scores, and later average can be taken by the process lead. Often committee members will have different expertise - for example, supply chain. Thus, rather than the evaluating the entire package - the supply chain member would look at the compliance of the bid against the supply chain requirements. Yet, each different expert within the process should explain why they have scored in a certain way to entire committee, and have their scores confirmed by others.
B14: Who can I contact if I have a question or comment about this document?
B15: Please contact the Evidence Quality and Innovation TWG at EQITWG@savethechildren.org as well as SCI Centre Evidence and Learning Team at CentreEvidenceandLearning@savethechildren.org

Sheet Possible Criteria+Scoring Guid
B2: Guidance for Scoring for Study Proposals by External Consultants
B4: # | C4: Criteria | D4: Illustrative Description of the Criteria | E4: 0 | F4: 1 - 2 | G4: 3 - 4 | H4: 5 - 6 | I4: 7 - 8 | J4: 9 - 10
C6: Supplier has legitimate business/official premises, or they are registered for trading and tax as appropriate. | E6: Yes/No- Bidders must score 'Yes' against all to proceed
C7: Compliance with our standard policies | E7: Yes/No- Bidders must score 'Yes' against all to proceed
C8: Meet minimum specifications | E8: Yes/No- Bidders must score 'Yes' against all to proceed
B9: Understanding of requirements and proposal
B10: 1 | C10: Proposal – methodology and approach | D10: The proposal clearly articulates the objective(s) of the research/evaluation. The proposed approach and methodology is robust, appropriate (actionable, sensitive, responsible) and indicates that it will achieve the requirements of the research/evaluation. | E10: Lacks understanding of the objective(s). There is no description of the proposed approach or methodology in the proposal | F10: Indicates basic understanding of the objective(s). The proposed approach and/or methodology is neither robust nor appropriate | G10: The proposal demonstrates good understanding of the objective(s). The proposed approach is not clearly defined and it is not clear how it will achieve the requirements of the research/evaluation | H10: The proposal demonstrates good understanding of the objective(s). The proposed approach is appropriate however there is little description of the methodology or the methodology is not robust | I10: The proposal demonstrates thorough understanding of the objective(s). The proposed approach and methodology is robust and appropriate, however there are questions that some of the requirements will not be met | J10: The proposal demonstrates thorough understanding of the objective(s). The proposed approach and methodology is robust and appropriate. It indicates that it will achieve the requirements of the research/evaluation
B11: 2 | C11: Proposal – Project management | D11: Demonstrated understanding of the activities to be implemented, defined roles and responsibilities of team members, a project plan with proposed timelines for each major activity/deliverable, use of project management tools/practices and commitment to deliver on time | E11: The proposal does not provide any indication that the evaluation team will use project management tools/practices and deliver on time | F11: The proposal demonstrates understanding of activities, clearly defines roles and responsibilities of team members, yet does not provide a project plan or timeline | G11: The proposal provides a project plan and clearly defines roles and responsibilities of team members, yet activities are misunderstood and timelines and milestones are not reasonable | H11: The proposal provides a project plan with reasonable timelines and milestones, however and roles and responsibilities of team members are not clearly defined | I11: The proposal demonstrates understanding of activities, clearly defines roles and responsibilities of team members, provides a project plan and indicates ability to deliver on time | J11: The evaluation team will use strong project management tools/practices and the proposal demonstrates understanding of activities, clearly defines roles and responsibilities of team members, provides a project plan and indicates ability to deliver on time.
B12: Demonstrated experience
B13: 3a | C13: Experience – formative or process evaluation [applies particularly to evaluations - other type of study may need a different criteria] | D13: Experience in conducting [formative or process] evaluation using mixed-methods (qualitative and quantitative data collection and analysis) | E13: No prior experience in conducting [formative or process] evaluation | F13: Some experience in conducting research conducting [formative or process] evaluation | G13: Good level of experience in conducting research conducting [formative or process] evaluation | H13: Good level of experience in conducting research conducting [formative or process] evaluation | I13: Good level of experience in conducting research conducting [formative or process] evaluation | J13: Extensive experience in conducting research conducting [formative or process] evaluation
B14: 3b | C14: Experience – Impact/outcome evaluation [applies particularly to evaluations - other type of study may need a different criteria] | D14: Experience in conducting [insert all that, impact/outcome or economic] or evaluation using [experimental or quasi-experimental] design and mixed-methods (qualitative and quantitative data collection and analysis) | E14: No prior experience in conducting research and/or evaluation using | F14: Some experience in conducting research and/or evaluation in the field of [insert thematic area/s], yet not within [sub-thematic area] | G14: Good level of experience in conducting research and/or evaluation in the field of [insert thematic area/s], yet not within [sub-thematic area] | H14: Good level of experience in conducting research and/or evaluation in the field of [insert thematic area/s], with some in [sub-thematic area] | I14: Good level of experience in conducting research and/or evaluation in the field of [sub-thematic area] | J14: Extensive experience in in conducting research and/or evaluation in the field of [sub-thematic area]
B15: 3c | C15: Experience – Economic evaluation [applies particularly to evaluations - other type of study may need a different criteria] | D15: Experience in conducting economic evaluation in a social services context (including either cost effectiveness analysis, return on investment, cost-benefit analysis or cost efficiency analysis) | E15: No prior experience in conducting economic evaluation | F15: Some experience in conducting economic evaluation, however not within a in a social services context | G15: Some experience in conducting economic evaluation in a social services context (limited to cost effectiveness analysis) | H15: Good level experience in in conducting economic evaluation in a social services context, including return on investment analysis | I15: Good level experience in in conducting economic evaluation in a social services context, including cost-benefit analyses | J15: Good level experience in in conducting economic evaluation in a social services context, including cost-efficiency analyses
B16: 3d | C16: Experience – Research [or needs assessment/situational analyses] | D16: Experience in conducting [insert all that apply: applied, intervention, action, exploratory, longitudinal] research [or needs assessment/situational analyses etc.] | E16: No prior experience in conducting the type of research required by the project | F16: Some experience in conducting the type of research required by the project (adjust as per project requirements) | G16: Some experience in conducting the type of research required by the project (adjust as per project requirements) | H16: Good level of experience in conducting the type of research required by the project (adjust as per project requirements) | I16: Good level of experience in conducting the type of research required by the project (adjust as per project requirements) | J16: Extensive experience in conducting the type of research required by the project (adjust as per project requirements)
B17: 4 | C17: Experience – Thematic area | D17: Experience in conducting research and/or evaluation in the field of [insert thematic area/s], particularly in relation to [sub-thematic area] | E17: No prior experience in conducting research and/or evaluation in the field of [insert thematic area/s] | F17: Some experience in conducting research and/or evaluation in the field of [insert thematic area/s], yet not within [sub-thematic area] | G17: Good level of experience in conducting research and/or evaluation in the field of [insert thematic area/s], yet not within [sub-thematic area] | H17: Good level of experience in conducting research and/or evaluation in the field of [insert thematic area/s], with some in [sub-thematic area] | I17: Good level of experience in conducting research and/or evaluation in the field of [sub-thematic area] | J17: Extensive experience in in conducting research and/or evaluation in the field of [sub-thematic area]
B18: 5 | C18: Experience – Country and cultural context | D18: Prior experience of leading research, evaluations or consultancy work in [insert Country Name] that is sensitive to the local context and culture, particularly [select all that apply: child rights, gender equality, ethnicity, religion and minority groups and/or other factors] | E18: No prior experience in conducting research and/or evaluation in [insert Country Name] nor awareness of local contextual and cultural considerations | F18: Very little experience in conducting research and/or evaluation in [insert Country Name] | G18: Some experience in conducting research and/or evaluation in [insert Country Name], however little familiarity with the local context and culture in which the project will be implemented | H18: Some experience in conducting research and/or evaluation in [insert Country Name] and familiarity with the local context and culture in which the project will be implemented | I18: Good level of experience conducting research and/or evaluation in [insert Country Name] that is sensitive to the local context and culture in which the project will be implemented | J18: Extensive experience conducting research and/or evaluation in [insert Country Name] that is sensitive to the local context and culture in which the project will be implemented
B19: 6 | C19: Experience – Context (urban/rural) | D19: Prior experience of leading research, evaluations or consultancy work in a similar urban/rural context | E19: No prior experience in conducting research and/or evaluation in [the type of context of the programme: [urban/rural] nor awareness of contextual considerations | F19: Very little experience in conducting research and/or evaluation in urban/rural/camp settings yet not within specific type of setting (ie urban - slum; urban - hidden or rare populations; rural - pastoralists; rural - settled; camp settings] | G19: Good level of experience in conducting research and/or evaluation in urban/rural/camp settings, yet not within specific type of setting (ie urban - slum; urban - hidden or rare populations; rural - pastoralists; rural - settled; camp settings] | H19: Good level of experience in conducting research and/or evaluation in [urban/rural/camp settings], with some in specific type of setting (ie urban - slum; urban - hidden or rare populations; rural - pastoralists; rural - settled; camp settings] | I19: Good level of experience conducting research and/or evaluation in the specific type of setting [ie urban - slum; urban - hidden or rare populations; rural - pastoralists; rural - settled; camp settings] | J19: Extensive experience conducting research and/or evaluation in the specific type of setting [ie urban - slum; urban - hidden or rare populations; rural - pastoralists; rural - settled; camp settings]
B20: 7 | C20: Experience – Context (humanitarian/development | D20: Prior experience of leading research, evaluations or consultancy work in a similar humanitarian/development context, including, for humanitarian, the type of crisis (e.g. conflict vs displacement vs natural disaster) | E20: No prior experience in conducting research and/or evaluation in [the type of context of the programme: [select all that apply: earthquake; flood; tsunami; drought; pandemic; conflict; displacement] nor awareness of contextual considerations | F20: Very little experience in conducting research and/or evaluation in [the type of context of the programme: [select all that apply: earthquake; flood; tsunami; drought; pandemic; conflict; displacement/] | G20: No experience in conducting research and/or evaluation in [the type of context of the programme: [select all that apply: earthquake; flood; tsunami; drought; pandemic; conflict; displacement], however familiarity with the broader context [e.g. rapid onset crisis/middle income country...] | H20: Some experience in conducting research and/or evaluation in [the type of context of the programme: [select all that apply: earthquake; flood; tsunami; drought; pandemic; conflict; displacement] | I20: Good level of experience conducting research and/or evaluation in [the type of context of the programme: [select all that apply: earthquake; flood; tsunami; drought; pandemic; conflict; displacement] | J20: Extensive experience conducting research and/or evaluation in [the type of context of the programme: [select all that apply: earthquake; flood; tsunami; drought; pandemic; conflict; displacement]
B21: 8 | C21: Experience – Donor | D21: Experience in conducting evaluations funded by [insert donor], particularly in relation to [project's thematic area] | E21: No prior experience in conducting research and/or evaluation of programmes funded by [insert donor/s] | F21: Some experience in conducting research and/or evaluation of programmes funded by [insert donor/s], yet not under [specific department/fund manager/macro-programme] nor in relation to [thematic area] | G21: Good level of experience in conducting research and/or evaluation [insert donor/s], yet not under [specific department/fund manager/macro-programme] nor in relation to [thematic area] | H21: Good level of experience in conducting research and/or evaluation funded by [insert donor/s], as well as either under [specific department/fund manager/macro-programme] or in relation to [thematic area] | I21: Good level of experience in conducting research and/or evaluation funded by [insert donor/s], as well as under [specific department/fund manager/macro-programme] and in relation to [thematic area] | J21: Extensive experience in conducting research and/or evaluation funded by [insert donor/s], as well as under [specific department/fund manager/macro-programme] and in relation to [thematic area]
B22: 9 | C22: Experience –Working with children and marginalised, deprived and/or vulnerable groups | D22: Prior experience in conducting ethical and inclusive research and/or evaluations involving: a) children and b) marginalised, deprived and/or vulnerable groups | E22: No prior experience conducting ethical and inclusive research and/or evaluations involving: a) children and b) marginalised, deprived and/or vulnerable groups | F22: Very little experience conducting ethical and inclusive research and/or evaluations involving either: a) children OR b) marginalised, deprived and/or vulnerable groups | G22: Some experience conducting ethical and inclusive research and/or evaluations involving either: a) children OR b) marginalised, deprived and/or vulnerable groups | H22: Some experience conducting ethical and inclusive research and/or evaluations involving: a) children AND b) marginalised, deprived and/or vulnerable groups | I22: Good level of experience conducting ethical and inclusive research and/or evaluations involving: a) children AND b) marginalised, deprived and/or vulnerable groups | J22: Extensive experience conducting ethical and inclusive research and/or evaluations involving: a) children AND b) marginalised, deprived and/or vulnerable groups
B23: Bidder capacity
B24: 10 | C24: Leadership | D24: Team Leader's experience in leading large scale consultancy work, research and evaluations, and managing a team of diverse team of specialists | E24: Less than 2 years of experience as a team leader for large scale evaluations or consultancy work | F24: Between 2 - 3 years of experience as a team leader in large scale evaluations or consultancy work | G24: Between 3 - 5 years of experience as a team leader in large scale evaluations or consultancy work | H24: Between 6 - 7 years of experience as a team leader in large scale evaluations or consultancy work | I24: Between 8 - 9 years of experience as a team leader in large scale evaluations or consultancy work | J24: More than 10 years of experience as a team leader in large scale evaluations or consultancy work
B25: 11 | C25: Personnel | D25: The combined team resources (number of members), skills and experience adequately covers all areas of expertise and experience required (e.g. research design, sampling, quantitative and qualitative data collection, quantitative and qualitative data analysis, stakeholder liaison and knowledge translation/reporting back etc. as indicated in the TOR) | E25: The combined team skills and experience are unsatisfactory, as the majority of the evaluation team do not have the required skills nor experience | F25: The combined team skills and experience are unsatisfactory, as there are many gaps in the areas of skill and expertise required | G25: The combined team skills and experience are satisfactory, however there are questions over the number of members needed to deliver on time | H25: The combined team resources, skills and experience of the evaluation team fully cover all areas of expertise required except one or two and do not have access to project advisors who can fill technical knowledge gaps | I25: The combined skills and experience of the evaluation team fully cover all areas of expertise required except one or two yet have access to project advisors who can fill technical knowledge gaps | J25: The combined skills and experience of the evaluation team fully cover all areas of expertise required
B26: 12 | C26: Language | D26: Team's fluency in the main language spoken by the country office staff (e.g. French, Arabic, Spanish) | E26: The combined language skills and experience are unsatisfactory, as no one in the evaluation team does speak the required language | F26: The combined team skills and experience are unsatisfactory, as there are individuals who speak the required language, but only at a basic level | G26: The language skills of the team are satisfactory, however only held by one/two key individuals | H26: The combined language skills of the evaluation team mean most team member have the level of proficiency required to have conversations/read material/deliver trainings except one or two who would require a translator; however, none in the team feels comfortable writing a report/executive summary in the required language | I26: All the team members have the necessary language skills required to have conversations/deliver trainings; however, none in the team feels comfortable writing a report/executive summary in the required language | J26: All members of the evaluation team can fluently speak, read, write and understand the required language
C27: LOOK AT THE CRITERIA FOR RESEARCH PARTNERS in the last tab and see if there are elements (such as "Record of networks with key decision makers and record of past impact in influencing them") that would be relevant to incorporate
B28: Financial criteria
B29: 10 | C29: Personnel allocations and rates - Coverage | D29: Comprehensive coverage of costing elements/units and adequacy of budgeting into specific costing elements. There are no important cost elements that are not being budgeted for. | E29: There are many missing budget line items that are essential for the completion of the tasks successfully | F29: Considerable number of important cost elements are missing from the budget | G29: There are higher number of required cost element that are not being budgeted | H29: There are two to four necessary tasks / cost element not being budgeted (that are essential for the performance of duties under this evaluation) | I29: There are one or two necessary tasks / cost element not being budgeted (that are essential for the performance of duties under this evaluation) | J29: All the necessary budget elements are included in the budget estimation; no missing cost elements that are require to perform the duties under this contract
B30: 11 | C30: Personnel allocations and rates - Reasonableness | D30: The allocated amounts, unit cost and number of required units are reasonable to achieve the objectives of this study; those amounts are necessary to achieve the objectives of the evaluation effectively | E30: Most of the allocated budget amounts are unreasonable and way higher than the current market rates | F30: There are considerable number of budget lines with unreasonable budgets allocations higher than the accepted market rates | G30: There higher number of budget elements that are unreasonably budgeted, varying from accepted market rates | H30: There are two to four cost elements that are unreasonable; varying with a higher margin from the acceptable market rates | I30: There are one or two cost elements that are unreasonable; varying with a higher margin from the acceptable market rates | J30: Budget allocations under each line item is very reasonable and in accordance with the accepted market rates
B31: 12 | C31: Cost elements | D31: The budget line items are relevant for the successful implementation of the activities of the whole evaluation process. There are no unnecessary or unrelated cost elements (to achieve the objectives of this research) being budgeted for. | E31: There are many unrelated budget lines that are being budgeted for. | F31: Majority of line items are irrelevant for the activities to be performed under the evaluation process | G31: There are more than five or six budget line items that are irrelevant for the activities to be performed under this evaluation process | H31: There are two to four budget line items that are not really relevant for the scope of work in this evaluation | I31: There are one or two budget line items that are not really relevant for the scope of work in this evaluation | J31: There are only relevant budget lines mentioned in the financial proposal for this evaluation process; there are no any irrelevant cost elements in the budget

Sheet Detailed scoring sheet-all bids
B2: Scoring for Research/Evaluation Proposals by External Consultants
B4: Name of the Evaluator/s:
B6: * Please refer to Scoring Guidance for assigning scores under each criteria.
B8: I. Essential Proposal Evaluation Criteria
B10: # | C10: Criteria | D10: Criteria | E10: Bid 1 (insert bidder Name) Score (Yes- No-Maybe) | F10: Bid 3 (insert bidder Name) Score (Yes- No-Maybe) | G10: Bid 3 (insert bidder Name) Score (Yes- No-Maybe) | H10: Bid 4 (insert bidder Name) Score (Yes- No-Maybe) | I10: If there are more than 4 bidders, then add more sheets and link as required
B11: 1 | C11: Supplier has legitimate business/official premises, or they are registered for trading and tax as appropriate. | D11: Essential Criteria ( Bidders must score 'Yes' against all to proceed). Vetting will be conducted after award decision to check that the selected Supplier is not on any government blacklisting or prohibited parties. If they are, the award decision will be re-visited.
B12: 2 | C12: Compliance with our standard policies | D12: Essential Criteria ( Bidders must score 'Yes' against all to proceed). Vetting will be conducted after award decision to check that the selected Supplier is not on any government blacklisting or prohibited parties. If they are, the award decision will be re-visited.
B13: 3 | C13: Meet minimum specifications | D13: Essential Criteria ( Bidders must score 'Yes' against all to proceed). Vetting will be conducted after award decision to check that the selected Supplier is not on any government blacklisting or prohibited parties. If they are, the award decision will be re-visited.
B15: II. Technical Evaluation Criteria
B17: # | C17: Criteria | D17: Narrative | E17: Bid 1 (insert bidder Name) Score (0 - 10 Scale) | F17: Bid 2 (insert bidder Name) Score (0 - 10 Scale) | G17: Bid 3 (insert bidder Name) Score (0 - 10 Scale) | H17: Bid 4 (insert bidder Name) Score (0 - 10 Scale) | I17: If there are more than 4 bidders, then add more sheets and link as required
B18: PPPopulate the list below (column C) with the relevant criteria you will choose from (or add/tailor) from the tab called "possible criteria plus scoring guidelines). You may have more than a scorer - the table is set up to only enter the average score among the different scorers but you can record that in a different tab if helpful.
B19: 1 | C19: Proposal – methodology and approach | D19: If you want, insert here a brief description of each criteria. If you are using criteria from the "possible criteria" tab you can copy the description from there. For instance, for "methodology and approach", the description would be "The proposal clearly articulates the objective(s) of the research/evaluation. The proposed approach and methodology is robust, appropriate (actionable, sensitive, responsible) and indicates that it will achieve the requirements of the research/evaluation."
B20: 2 | C20: Proposal – Project management
B21: 3 | C21: Experience - Research/evaluation
B22: 4 | C22: Experience – Thematic area
B23: 5 | C23: Experience – Country and cultural context
B24: 6 | C24: Experience – Context (urban/rural)
B25: 7 | C25: Experience – Context (humanitarian/development)
B26: 8 | C26: Experience – Donor
B27: 9 | C27: Experience –Working with children and marginalised, deprived and/or vulnerable groups
B28: 10 | C28: Leadership
B29: 11 | C29: Personnel
B30: 12 | C30: Language skills
C31: TOTAL | E31: =SUM(E19:E30) -> 0 | F31: =SUM(F19:F30) -> 0 | G31: =SUM(G19:G30) -> 0 | H31: =SUM(H19:H30) -> 0
B34: III. Financial Proposal Evaluation
B36: # | C36: Criteria | D36: Criteria | E36: Bid 1 (insert bidder Name) Score (0 - 10 Scale) | F36: Bid 2 (insert bidder Name) Score (0 - 10 Scale) | G36: Bid 3 (insert bidder Name) Score (0 - 10 Scale) | H36: Bid 4 (insert bidder Name) Score (0 - 10 Scale) | I36: If there are more than 4 bidders, then add more sheets and link as required
B37: PPPopulate the list below (column C) with the relevant criteria you will choose from (or add/tailor) from the tab called "possible criteria plus scoring guidelines)
B38: 1 | C38: Personnel allocations and rates - Coverage | D38: If you want, insert here a brief description of each criteria. If you are using criteria from the "possible criteria" tab you can copy the description from there.
B39: 2 | C39: Personnel allocations and rates - Reasonableness
B40: 3 | C40: Cost elements
C41: TOTAL | E41: =SUM(E38:E40) -> 0 | F41: =SUM(F38:F40) -> 0 | G41: =SUM(G38:G40) -> 0 | H41: =SUM(H38:H40) -> 0

Sheet Master Sheet
B1: Master Sheet for Competive Bid Analysis (CBA)
B2: Hard copies for physical signatures should include the Essential, Commercial and Capability Criteria Evaluations | D2: Version No. 1.1 / April 2021
B3: PLEASE SCROLL TO THE BOTTOM OF THIS TAB
B4: PR reference no(s). | G4: Date prepared: | L4: Benefits to Approve | N4: Yes/No
B5: If applicable | G5: Prepared by: | L5: Amount
L6: Currency
B8: Scoring for Research/Evaluation Proposals by External Consultants
B9: Essential Evaluation Conducted by (name, position) | F9: Date prepared | I9: Signature
E11: Bid 1 | F11: Bid 2 | G11: Bid 3 | H11: Bid 4
B12: Essential Criteria ( Bidders must score 'Yes' against all to proceed) | E12: Yes/No | I12: If there are more than 4 bidders, then add more sheets and link as required
B13: Supplier has legitimate business/official premises, or they are registered for trading and tax as appropriate. | E13: Yes | F13: Yes | G13: Yes | H13: Yes
B14: Compliance with our standard policies | E14: Yes | F14: Yes | G14: Yes | H14: Yes
B15: Meet minimum specifications | E15: Yes | F15: Yes | G15: Yes | H15: Yes
B16: Vetting will be conducted after award decision to check that the selected Supplier is not on any government blacklisting or prohibited parties. If they are, the award decision will be re-visited.
B17: Technical Score | E17: ='Detailed scoring sheet-all bids'!E31 -> 0 | F17: ='Detailed scoring sheet-all bids'!F31 -> 0 | G17: ='Detailed scoring sheet-all bids'!G31 -> 0 | H17: ='Detailed scoring sheet-all bids'!H31 -> 0
B18: Weighted Technical Score | D18: 0.6 | E18: =E17*$D$18 -> 0 | F18: =F17*$D$18 -> 0 | G18: =G17*$D$18 -> 0 | H18: =H17*$D$18 -> 0
B20: Financial Score | E20: ='Detailed scoring sheet-all bids'!E41 -> 0 | F20: ='Detailed scoring sheet-all bids'!F41 -> 0 | G20: ='Detailed scoring sheet-all bids'!G41 -> 0 | H20: ='Detailed scoring sheet-all bids'!H41 -> 0
B21: Weighted Financial Score | D21: 0.4 | E21: =E20*$D$21 -> 0 | F21: =F20*$D$21 -> 0 | G21: =G20*$D$21 -> 0 | H21: =H20*$D$21 -> 0
B23: Final Score | E23: =SUM(E18,E21) -> 0 | F23: =SUM(F18,F21) -> 0 | G23: =SUM(G18,G21) -> 0 | H23: =SUM(H18,H21) -> 0
B25: Please note: The default position in the Procurement manual is that the weighted score should 60 (technical) and 40 (financial). This can adjusted with agreement from the Procurement Committee
G27: Pre-Populated from Evaluation Sheets
C28: Criteria | D28: Weightage | G28: Bid 1 (insert bidder Name) | I28: Bid 2 (insert bidder Name) | K28: Bidder 3 (insert bidder Name) | M28: Bidder 4 Name | O28: If there are more than 4 bidders, then add more columns and link as required
C29: Essential | D29: Yes/No/Partially (explain below) | G29: Yes | I29: Yes | K29: Yes | M29: No
C30: Weighted Technical Score | D30: 0.4 | G30: =E18 -> 0 | I30: =F18 -> 0 | K30: =G18 -> 0 | M30: =H18 -> 0
C31: Weighted Financial Score | D31: 0.6 | G31: =E21 -> 0 | I31: =F21 -> 0 | K31: =G21 -> 0 | M31: =H21 -> 0
C32: Total weighted scores | D32: 1 | G32: =SUM(G30:H31) -> 0 | I32: =SUM(I30:J31) -> 0 | K32: =SUM(K30:L31) -> 0 | M32: =SUM(M30:N31) -> 0
C34: Supplier Selected:
C35: Summary of basis for recommendation including procedure used, any known context on suppliers that did and chose not to bid, justification for recommending a supplier if either they did not score the highest or justification for recommending a supplier if they are not the lowest total cost supplier that meets the core business requirements and essential criteria.
C42: Committee member (Business Owner) Or Budget Holder/Program Manager if no Committee Required | J42: Committee member (Procurement / Supply Chain)
C43: To assess the suitability of product/services offered (typical areas of evaluation focus are delivery times, service levels, quality, key personnel). | J43: To verify the procurement procedure used and to oversee the commercial aspects of the evaluation (typical areas of evaluation focus are compliance to terms and conditions, price, total cost, supplier performance incentives/penalties)
C44: Name | J44: Name
C45: Position | J45: Position
C46: Date | J46: Date
C47: Signature | J47: Signature
C49: Committee member (Finance/Awards) | J49: Optional: Committee member (Technical Owner e.g. functional leads or the custodian of specs)
C50: To verify the budget availability and stewardship of SCI financial resources (typical areas of evaluation focus are risk, budgets, financial resources, supplier financial health). | J50: To verify the specifications and / or standards of the goods and services (typical areas of evaluation focus are quality, conformance to specifications and protocols, innovation, supplier capacity and reliability)
C51: Name | J51: Name
C52: Position | J52: Position
C53: Date | J53: Date
C54: Signature | J54: Signature
...

Sheet Criteria for research partners
B2: Criteria to consider for Research Partners (assuming they would not be subcontractors, but partners)
B3: Note: The criteria below are to be considered in addition to (relevant) ones in the "Scoring Guidance" tab, and treated as a checklist.
B5: Criteria
B6: Interest and relevance | C6: Genuine capacity and interest in the subject for collaboration. For example is it part of the school’s or department’s strategy? Do the researchers contribute to the right forums?
B7: Reputation of the institution [Intellectual independence; Transparency; Credentials and expertise; Communications and visibility; Research quality; Ideology and values] | C7: The reputation of the institution doing the research could have an impact on the extent to which your target audience finds the findings "persuasive". Big names universities (such as Oxford, Harvard...) may be judged particularly trustworthy by certain audiences, and they may have a better communication department to help get out the findings/greater budget to present at conferences etc. This varies from country to country, and there are regional and national centres for excellence (e.g. Makerere University in ESA etc).
B8: Reputation of the individual researchers we would partner with | C8: If we were to get a project with a specific researcher, and he/she was to move to a different academic institution, would we continue working with the researcher or with the institution?
B9: Work style of the individual researchers we would partner with | C9: Interpersonal skills, their ability to work as part of a team, tact, flexibility, creativity, openness and pragmatism.
B10: Access to funding opportunities | C10: If we are thinking of building a long term partnership around a research question (e.g. Malnutrition Initiative), we may identify a preferred research institution we'd like to partner with, and mutually agree to work on that theme together. This may mean we ask them to reach out to us when they see a suitable funding opportunity, to bid jointly... In such a case, knowing they can apply for funds from specific sources (e.g. UK academic institutions can apply to Global Challenge Research Fund, but no longer to European Research Funding... can be an important factor to consider
B11: Record of networks with key decision makers and record of past impact in influencing them | C11: If we are thinking of building a long term partnership around a research question (e.g. Malnutrition Initiative), we may identify a preferred research institution we'd like to partner with, and mutually agree to work on that theme together. This may mean we ask them to reach out to us when they see a suitable funding opportunity, to bid jointly... In such a case, knowing they can apply for funds from specific sources (e.g. UK academic institutions can apply to Global Challenge Research Fund, but no longer to European Research Funding... can be an important factor to consider
B13: for more extensive guidance see Teresa Hanley and Isabel Vogel (2015) Guide to Constructing Effective Research Partnerships, London, ELHRA
